{
 "currentVersion": 10.81,
 "cimVersion": "2.6.0",
 "serviceDescription": "",
 "mapName": "1938 m. Topo",
 "description": "",
 "copyrightText": "",
 "supportsDynamicLayers": true,
 "layers": [
  {
   "id": 0,
   "name": "Topo_1938",
   "parentLayerId": -1,
   "defaultVisibility": true,
   "subLayerIds": null,
   "minScale": 0,
   "maxScale": 0,
   "type": "Feature Layer",
   "geometryType": "esriGeometryPolygon",
   "supportsDynamicLegends": true
  }
 ],
 "tables": [],
 "spatialReference": {
  "wkid": 2600,
  "latestWkid": 3346,
  "xyTolerance": 0.001,
  "zTolerance": 0.001,
  "mTolerance": 0.001,
  "falseX": -5122000,
  "falseY": -10000100,
  "xyUnits": 10000,
  "falseZ": -100000,
  "zUnits": 10000,
  "falseM": -100000,
  "mUnits": 10000
 },
 "singleFusedMapCache": true,
 "tileInfo": {
  "rows": 256,
  "cols": 256,
  "dpi": 96,
  "format": "MIXED",
  "compressionQuality": 75,
  "origin": {
   "x": -5122000,
   "y": 10000100
  },
  "spatialReference": {
   "wkid": 2600,
   "latestWkid": 3346,
   "xyTolerance": 0.001,
   "zTolerance": 0.001,
   "mTolerance": 0.001,
   "falseX": -5122000,
   "falseY": -10000100,
   "xyUnits": 3292632.4322791677,
   "falseZ": -100000,
   "zUnits": 10000,
   "falseM": -100000,
   "mUnits": 10000
  },
  "lods": [
   {
    "level": 0,
    "resolution": 52.91677250021167,
    "scale": 200000
   },
   {
    "level": 1,
    "resolution": 26.458386250105836,
    "scale": 100000
   },
   {
    "level": 2,
    "resolution": 13.229193125052918,
    "scale": 50000
   },
   {
    "level": 3,
    "resolution": 6.614596562526459,
    "scale": 25000
   },
   {
    "level": 4,
    "resolution": 2.6458386250105836,
    "scale": 10000
   },
   {
    "level": 5,
    "resolution": 1.3229193125052918,
    "scale": 5000
   },
   {
    "level": 6,
    "resolution": 0.5291677250021167,
    "scale": 2000
   },
   {
    "level": 7,
    "resolution": 0.26458386250105836,
    "scale": 1000
   },
   {
    "level": 8,
    "resolution": 0.13229193125052918,
    "scale": 500
   }
  ]
 },
 "initialExtent": {
  "xmin": 568433.0410184036,
  "ymin": 6052730.755975937,
  "xmax": 597517.46979318,
  "ymax": 6072503.492215988,
  "spatialReference": {
   "wkid": 2600,
   "latestWkid": 3346,
   "xyTolerance": 0.001,
   "zTolerance": 0.001,
   "mTolerance": 0.001,
   "falseX": -5122000,
   "falseY": -10000100,
   "xyUnits": 10000,
   "falseZ": -100000,
   "zUnits": 10000,
   "falseM": -100000,
   "mUnits": 10000
  }
 },
 "fullExtent": {
  "xmin": 577203.2169000003,
  "ymin": 6054447.5864,
  "xmax": 588747.5237999996,
  "ymax": 6070786.633300001,
  "spatialReference": {
   "wkid": 2600,
   "latestWkid": 3346,
   "xyTolerance": 0.001,
   "zTolerance": 0.001,
   "mTolerance": 0.001,
   "falseX": -5122000,
   "falseY": -10000100,
   "xyUnits": 10000,
   "falseZ": -100000,
   "zUnits": 10000,
   "falseM": -100000,
   "mUnits": 10000
  }
 },
 "minScale": 200000,
 "maxScale": 500,
 "units": "esriMeters",
 "supportedImageFormatTypes": "PNG32,PNG24,PNG,JPG,DIB,TIFF,EMF,PS,PDF,GIF,SVG,SVGZ,BMP",
 "documentInfo": {
  "Title": "Map",
  "Author": "",
  "Comments": "",
  "Subject": "",
  "Category": "",
  "AntialiasingMode": "Fast",
  "TextAntialiasingMode": "Force",
  "Keywords": "vp,baziniai,topografija,Vilnius"
 },
 "supportsQueryDomains": true,
 "capabilities": "Map,Query,Data",
 "supportedQueryFormats": "JSON, geoJSON, PBF",
 "exportTilesAllowed": false,
 "referenceScale": 0.0,
 "datumTransformations": [
  {
   "geoTransforms": [
    {
     "wkid": 8198,
     "latestWkid": 1283,
     "transformForward": true,
     "name": "LKS_1994_To_WGS_1984"
    }
   ]
  },
  {
   "geoTransforms": [
    {
     "wkid": 8198,
     "latestWkid": 1283,
     "transformForward": false,
     "name": "LKS_1994_To_WGS_1984"
    }
   ]
  },
  {
   "geoTransforms": [
    {
     "wkid": 108190,
     "latestWkid": 108190,
     "transformForward": false,
     "name": "WGS_1984_(ITRF00)_To_NAD_1983"
    }
   ]
  },
  {
   "geoTransforms": [
    {
     "wkid": 108190,
     "latestWkid": 108190,
     "transformForward": true,
     "name": "WGS_1984_(ITRF00)_To_NAD_1983"
    }
   ]
  }
 ],
 "supportsDatumTransformation": true,
 "archivingInfo": {
  "supportsHistoricMoment": false
 },
 "supportsClipping": true,
 "supportsSpatialFilter": true,
 "supportsQueryDataElements": true,
 "maxRecordCount": 2000,
 "maxImageHeight": 4096,
 "maxImageWidth": 4096,
 "supportedExtensions": "",
 "resampling": false
}
